BEGIN:VCALENDAR
VERSION:2.0
PRODID:-//Academic Honors and Fellowships - ECPv6.15.20//NONSGML v1.0//EN
CALSCALE:GREGORIAN
METHOD:PUBLISH
X-WR-CALNAME:Academic Honors and Fellowships
X-ORIGINAL-URL:https://ahf.usc.edu
X-WR-CALDESC:Events for Academic Honors and Fellowships
REFRESH-INTERVAL;VALUE=DURATION:PT1H
X-Robots-Tag:noindex
X-PUBLISHED-TTL:PT1H
BEGIN:VTIMEZONE
TZID:America/Los_Angeles
BEGIN:DAYLIGHT
TZOFFSETFROM:-0800
TZOFFSETTO:-0700
TZNAME:PDT
DTSTART:20230312T100000
END:DAYLIGHT
BEGIN:STANDARD
TZOFFSETFROM:-0700
TZOFFSETTO:-0800
TZNAME:PST
DTSTART:20231105T090000
END:STANDARD
BEGIN:DAYLIGHT
TZOFFSETFROM:-0800
TZOFFSETTO:-0700
TZNAME:PDT
DTSTART:20240310T100000
END:DAYLIGHT
BEGIN:STANDARD
TZOFFSETFROM:-0700
TZOFFSETTO:-0800
TZNAME:PST
DTSTART:20241103T090000
END:STANDARD
BEGIN:DAYLIGHT
TZOFFSETFROM:-0800
TZOFFSETTO:-0700
TZNAME:PDT
DTSTART:20250309T100000
END:DAYLIGHT
BEGIN:STANDARD
TZOFFSETFROM:-0700
TZOFFSETTO:-0800
TZNAME:PST
DTSTART:20251102T090000
END:STANDARD
END:VTIMEZONE
BEGIN:VEVENT
DTSTART;TZID=America/Los_Angeles:20241021T000000
DTEND;TZID=America/Los_Angeles:20241021T235959
DTSTAMP:20260423T111504
CREATED:20241017T194109Z
LAST-MODIFIED:20241017T194109Z
UID:10000191-1729468800-1729555199@ahf.usc.edu
SUMMARY:Scholar Distinction Applications Open
DESCRIPTION:USC Global\, Discovery\, and Renaissance Scholar distinction and prize competition applications are hosted in SurveyMonkey Apply. Links can be found on each Scholar Distinction webpage.
URL:https://ahf.usc.edu/event/scholar-distinction-applications-open-2/
CATEGORIES:Discovery Scholar Distinction,Global Scholar Distinction,Renaissance Scholar Distinction,Scholar Distinctions
END:VEVENT
END:VCALENDAR